BEGIN:VCALENDAR
PRODID:-//kirchenweb.ch gmbh//veranstaltungsausgabe v2.0//DE
VERSION:2.0
METHOD:PUBLISH
BEGIN:VEVENT
DTSTART:20260517T080000Z
DTEND:20260517T090000Z
LOCATION:Evang.-Ref. Kirche Rheinfelden\, Zürcherstrasse 1\, 4310
  Rheinfelden
TRANSP:OPAQUE
SEQUENCE:0
UID:17198-veranstaltung@ref-rheinfelden.ch
DTSTAMP:20260331T090712Z
DESCRIPTION:Der Geist der Wahrheit\n\nJesus geht und verspricht Ersatz:
  einen Stellvertreter. Davon berichtet Johannes in den Abschiedsreden
  seines Evangeliums. Aber was für ein schwacher Trost ist das. Schon
  Grundschulkinder wissen: Keine Vertretungskraft kann ihre geliebte
  Lehrerin ersetzen. Jesus\, ein Mensch aus Fleisch und Blut\, entzieht
  sich den Blicken und dem Zugriff. Was er stattdessen ankündigt\, ist
  unanschaulich und unbegreifbar: die heilige Geistkraft. Den Geist der
  Wahrheit. Ist das Versprechen von Jesus mehr als Vertröstung? Wird damit
  nicht die gähnende Leere noch trostloser? Ist das Christentum vielleicht
  eine Abwesenheitsreligion? Und ist die Abwesenheit von Jesus gar eine
  Bedingung unseres Glaubens? Oder gibt es etwas\, was die
  Unanschaulichkeit des heiligen Geistes wettmacht? Fragen über Fragen.
  Herzliche Einladung zu diesem Gottesdienst am 17. Mai. Eine Woche vor
  Pfingsten.\n\nKontakt: Pfr. Klaus-Christian Hirte\n\nWeitere Infos:
  https://www.ref-rheinfelden.ch/veranstaltung/17198
SUMMARY:Der Geist der Wahrheit - Gottesdienst
PRIORITY:5
X-MICROSOFT-CDO-IMPORTANCE:1
CLASS:PUBLIC
END:VEVENT
END:VCALENDAR
