BEGIN:VCALENDAR
PRODID:-//kirchenweb.ch gmbh//veranstaltungsausgabe v2.0//DE
VERSION:2.0
METHOD:PUBLISH
BEGIN:VEVENT
DTSTART:20260419T080000Z
DTEND:20260419T090000Z
LOCATION:Evang.-Ref. Kirche Rheinfelden\, Zürcherstrasse 1\, 4310
  Rheinfelden
TRANSP:OPAQUE
SEQUENCE:0
UID:17196-veranstaltung@ref-rheinfelden.ch
DTSTAMP:20260319T153942Z
DESCRIPTION:Ich muss gestehen\, ich mag Schafe. Obwohl sie als dumme Tiere
  gelten. Das hat vielleicht zu tun mit meinem Namen. Oder auch mit meinem
  Beruf\, denn „Pastor“ heisst übersetzt: Hirte. Aber zurück zum
  Schaf. Viele kennen Schafe nur noch als leckeres Lammragout\, als
  wärmendes Schafffell oder als Brocken Schafskäse im griechischen Salat.
  Dass eine Schafherde mit Hütehund und Hirten auf den Feldern
  vorbeizieht\, ist zu einer seltenen Erfahrung geworden. Schafe und Hirten
  sind unserem kulturellen Bewusstsein verloren gegangen. In der biblischen
  Zeit war das noch anders. An diesem Sonntag\, Miserikordias Domini\, dem
  sogenannten Hirtensonntag beschäftigen wir uns mit Versen aus dem
  Hebräerbrief\, die Jesus als den guten Hirten bezeichnen. \n\nKontakt:
  Pfr. Klaus-Christian Hirte\n\nWeitere Infos:
  https://www.ref-rheinfelden.ch/veranstaltung/17196
SUMMARY:Lammragout und Schafskäse - Gottesdienst
PRIORITY:5
X-MICROSOFT-CDO-IMPORTANCE:1
CLASS:PUBLIC
END:VEVENT
END:VCALENDAR
