BEGIN:VCALENDAR
PRODID:-//kirchenweb.ch gmbh//veranstaltungsausgabe v2.0//DE
VERSION:2.0
METHOD:PUBLISH
BEGIN:VEVENT
DTSTART:20260819T080000Z
DTEND:20260819T090000Z
LOCATION:WPZ Salmenpark\, Basler Str. 2\, 4310 Rheinfelden
TRANSP:OPAQUE
SEQUENCE:0
UID:17185-veranstaltung@ref-rheinfelden.ch
DTSTAMP:20251107T132155Z
DESCRIPTION:Kontakt: Pfr. Klaus-Christian Hirte\n\nWeitere Infos:
  https://www.ref-rheinfelden.ch/veranstaltung/17185
SUMMARY:Altersheim-Gottesdienst
PRIORITY:5
X-MICROSOFT-CDO-IMPORTANCE:1
CLASS:PUBLIC
END:VEVENT
END:VCALENDAR
