BEGIN:VCALENDAR
PRODID:-//kirchenweb.ch gmbh//veranstaltungsausgabe v2.0//DE
VERSION:2.0
METHOD:PUBLISH
BEGIN:VEVENT
DTSTART:20260528T120000Z
DTEND:20260528T140000Z
LOCATION:Kirchgemeindehaus Robersten\, Roberstenstrasse 22\, 4310
  Rheinfelden
TRANSP:OPAQUE
SEQUENCE:0
UID:16998-veranstaltung@ref-rheinfelden.ch
DTSTAMP:20250708T111422Z
DESCRIPTION:Begegnungscafé\n\nUnter dem Motto Kontakte pflegen\, Leute
  kennen lernen\, auftanken\, sind wir immer am letzten Donnerstag im Monat
  von 14:00 bis 16:00 Uhr im Kirchgemeindehaus der reformierten Kirche
  Region Rheinfelden\, Roberstenstrasse 22\, für Sie da.\n\nKommen Sie
  vorbei\, auf eine gute Tasse Kaffee oder Tee\, einer kleinen Stärkung\,
  und falls gewünscht auf ein Gespräch mit einer Pfarrperson oder der
  Sozialarbeiterin.\nWir freuen uns über regen Besuch\, vielfältige
  Begegnungen und spannende Gespräche. Sie sind ebenso willkommen\, wenn
  Sie nichts trinken oder essen\, sondern sich nur entspannen\, etwas lesen
  oder sich beraten lassen möchten. Natürlich sind auch Kinder herzlich
  willkommen!\nSuchen Sie vielleicht eine neue Aufgabe und möchten sich am
  Aufbau unseres Angebotes beteiligen? Auch darüber würden wir uns sehr
  freuen.\nKommen Sie doch einfach vorbei.\n\n\nKontakt: Iris Reif\n
 \nWeitere Infos: https://www.ref-rheinfelden.ch/veranstaltung/16998
SUMMARY:Begegnungscafé
PRIORITY:5
X-MICROSOFT-CDO-IMPORTANCE:1
CLASS:PUBLIC
END:VEVENT
END:VCALENDAR
