BEGIN:VCALENDAR
PRODID:-//kirchenweb.ch gmbh//veranstaltungsausgabe v2.0//DE
VERSION:2.0
METHOD:PUBLISH
BEGIN:VEVENT
DTSTART:20261211T111500Z
DTEND:20261211T123000Z
LOCATION:Kirchgemeindehaus Robersten\, Roberstenstrasse 22\, 4310
  Rheinfelden
TRANSP:OPAQUE
SEQUENCE:0
UID:16993-veranstaltung@ref-rheinfelden.ch
DTSTAMP:20250708T111128Z
DESCRIPTION:Jeden Freitag um 12:15 Uhr (ausser in den Schulferien und an
  Feiertagsbrücken) findet der Mittagstisch im reformierten
  Kirchgemeindehaus\, Roberstenstrasse 22\, \nin Rheinfelden statt.   \n
 \nUnsere Teams aus freiwilligen\, kochbegeisterten Helferinnen und Helfern
  zaubern einfache\, feine und gesunde Menus für Sie und freuen sich auf
  Ihr Kommen. \n\nDer Mittagstisch steht allen Menschen offen\, er ist ein
  Ort der Begegnung und der Freude\, um in Gesellschaft ein wenig Zeit zu
  verbringen und ein feines Zmittag in geselliger Runde zu geniessen. \n
 \nDas Mittagessen erhalten Sie für CHF 8— inkl. Mineralwasser / Sirup\,
  Café oder Tee CHF 2.-    \n \n\n\nKontakt: Iris Reif\n\nWeitere Infos:
  https://www.ref-rheinfelden.ch/veranstaltung/16993
SUMMARY:Mittagstisch
PRIORITY:5
X-MICROSOFT-CDO-IMPORTANCE:1
CLASS:PUBLIC
END:VEVENT
END:VCALENDAR
