BEGIN:VCALENDAR
PRODID:-//kirchenweb.ch gmbh//veranstaltungsausgabe v2.0//DE
VERSION:2.0
METHOD:PUBLISH
BEGIN:VEVENT
DTSTART:20251107T183000Z
DTEND:20251107T200000Z
LOCATION:Evang.-Ref. Kirche Rheinfelden\, Zürcherstrasse 1\, 4310
  Rheinfelden
TRANSP:OPAQUE
SEQUENCE:0
UID:15657-veranstaltung@ref-rheinfelden.ch
DTSTAMP:20251101T154331Z
DESCRIPTION:Musik und Erfahrungsberichte aus Medizin\, Pflege und
  Seelsorge\n\nEin besonderes Konzert verbindet Musik und persönliche
  Einblicke in die\nBegleitung schwerkranker und sterbender Menschen. Werke
  von Johann Sebastian Bach\, Franz Liszt\, Frédéric Chopin\, Heitor
  Villa-Lobos und Felix Mendelssohn-Bartholdy\nbilden den musikalischen
  Rahmen. Zwischen den musikalischen Beiträgen\nberichten Fachpersonen aus
  Medizin (Dr. med. Pia-Cristina Zimmermann)\,\nPflege (Andrea Tschopp
  MSc\, Pflegeexpertin Palliative Care) und Seelsorge\n(Pfrn. Christine
  Ruszkowski-Hauri) von ihren Erfahrungen in der Palliative\nCare. So
  entsteht ein Abend\, der Musik und Lebensgeschichten zusammen-\nführt.
  Tamar Eskenian (Querflöte)\, Jiaxun Yao (Violoncello)\,\nLukas Sehr
  (Klavier und musikalische Leitung)\n\n• Anschliessend Apéro\n
 \nKontakt: Pfr. Leszek Ruszkowski\n\nWeitere Infos:
  https://www.ref-rheinfelden.ch/veranstaltung/15657
SUMMARY:Konzert mit Erfahrungsberichten – Begleitveranstaltung der 
  Wanderausstellung Cicely Saunders
PRIORITY:5
X-MICROSOFT-CDO-IMPORTANCE:1
CLASS:PUBLIC
END:VEVENT
END:VCALENDAR
