BEGIN:VCALENDAR
PRODID:-//kirchenweb.ch gmbh//veranstaltungsausgabe v2.0//DE
VERSION:2.0
METHOD:PUBLISH
BEGIN:VEVENT
DTSTART:20261129T160000Z
DTEND:20261129T170000Z
LOCATION:Kirchgemeindehaus Gässli\, Juchstrasse 27\, 4312 Magden
TRANSP:OPAQUE
SEQUENCE:0
UID:15566-veranstaltung@ref-rheinfelden.ch
DTSTAMP:20260128T141926Z
DESCRIPTION:Kontakt: N.N.\n\nWeitere Infos:
  https://www.ref-rheinfelden.ch/veranstaltung/15566
SUMMARY:Familiengottesdienst
PRIORITY:5
X-MICROSOFT-CDO-IMPORTANCE:1
CLASS:PUBLIC
END:VEVENT
END:VCALENDAR
