BEGIN:VCALENDAR
PRODID:-//kirchenweb.ch gmbh//veranstaltungsausgabe v2.0//DE
VERSION:2.0
METHOD:PUBLISH
BEGIN:VEVENT
DTSTART:20240921T110000Z
DTEND:20240921T150000Z
LOCATION:Kirchgemeindehaus Robersten\, Roberstenstrasse 22\, 4310
  Rheinfelden
TRANSP:OPAQUE
SEQUENCE:0
UID:15488-veranstaltung@ref-rheinfelden.ch
DTSTAMP:20240604T113444Z
DESCRIPTION:Kontakt: Nils Ammann 076 544 28 39\n\n\nWeitere Infos:
  https://www.ref-rheinfelden.ch/veranstaltung/15488
SUMMARY:Jungschar
PRIORITY:5
X-MICROSOFT-CDO-IMPORTANCE:1
CLASS:PUBLIC
END:VEVENT
END:VCALENDAR
