BEGIN:VCALENDAR
PRODID:-//kirchenweb.ch gmbh//veranstaltungsausgabe v2.0//DE
VERSION:2.0
METHOD:PUBLISH
BEGIN:VEVENT
DTSTART:20240306T183000Z
DTEND:20240306T200000Z
LOCATION:Kirchgemeindehaus Robersten\, \,
TRANSP:OPAQUE
SEQUENCE:0
UID:15299-veranstaltung@ref-rheinfelden.ch
DTSTAMP:20240306T125957Z
DESCRIPTION:Wintergarten im Anschluss an 6. Klasse\n\nKontakt:
  andrea.boschbach@ref-rheinfelden.ch\n\nWeitere Infos:
  https://www.ref-rheinfelden.ch/veranstaltung/15299
SUMMARY:Bibelgesprächskreis
PRIORITY:5
X-MICROSOFT-CDO-IMPORTANCE:1
CLASS:PUBLIC
END:VEVENT
END:VCALENDAR
