BEGIN:VCALENDAR
PRODID:-//kirchenweb.ch gmbh//veranstaltungsausgabe v2.0//DE
VERSION:2.0
METHOD:PUBLISH
BEGIN:VEVENT
DTSTART:20240302T124500Z
DTEND:20240302T144500Z
LOCATION:Kirchgemeindehaus Kaiseraugst\, Kraftwerkstrasse 8\, 4303
  Kaiseraugst
TRANSP:OPAQUE
SEQUENCE:0
UID:15273-veranstaltung@ref-rheinfelden.ch
DTSTAMP:20240229T153751Z
DESCRIPTION:Kontakt: Jutta Wurm\n\nWeitere Infos:
  https://www.ref-rheinfelden.ch/veranstaltung/15273
SUMMARY:Singen!
PRIORITY:5
X-MICROSOFT-CDO-IMPORTANCE:1
CLASS:PUBLIC
END:VEVENT
END:VCALENDAR
