BEGIN:VCALENDAR
PRODID:-//kirchenweb.ch gmbh//veranstaltungsausgabe v2.0//DE
VERSION:2.0
METHOD:PUBLISH
BEGIN:VEVENT
DTSTART:20240301T163000Z
DTEND:20240301T183000Z
LOCATION:röm.-kath. Kirche Magden\, Scheibenackerweg\, 4312 Magden
TRANSP:OPAQUE
SEQUENCE:0
UID:15254-veranstaltung@ref-rheinfelden.ch
DTSTAMP:20240226T094714Z
DESCRIPTION:Christliche Frauen aus Palästina haben die Liturgie für 2024
  geschrieben zum Thema «... durch das Band des Friedens».\nWir sind alle
  tief erschüttert über die Situation für alle Menschen im Nahen Osten.
  Der Grundgedanke des Weltgebetstags ist\, den Frauen des jeweiligen
  Landes zuzuhören und für den Frieden für alle unter Kriegen leidenden
  Menschen zu beten.\nDie Feier findet am 1. März um 17.30 Uhr in der
  röm.-kath. Kirche statt. Danach gibt es ein gemütliches Beisammensein.
  Das ökumenische Vorbereitungsteam lädt herzlich\ndazu ein. \nClaudia
  Schüpbahh\n\nKontakt: Claudia Schüpbach\n\nWeitere Infos:
  https://www.ref-rheinfelden.ch/veranstaltung/15254
SUMMARY:Ökumenische  Feier des Weltgebetstags
PRIORITY:5
X-MICROSOFT-CDO-IMPORTANCE:1
CLASS:PUBLIC
END:VEVENT
END:VCALENDAR
