BEGIN:VCALENDAR
PRODID:-//kirchenweb.ch gmbh//veranstaltungsausgabe v2.0//DE
VERSION:2.0
METHOD:PUBLISH
BEGIN:VEVENT
DTSTART:20240302T103000Z
DTEND:20240302T130000Z
LOCATION:Kirchgemeindehaus Robersten\, Roberstenstrasse 22\, 4310
  Rheinfelden
TRANSP:OPAQUE
SEQUENCE:0
UID:15232-veranstaltung@ref-rheinfelden.ch
DTSTAMP:20240918T092531Z
DESCRIPTION:Herzliche Einladung zum ökumenischen Suppentag im
  reformierten Kirchgemeindehaus\, Roberstenstrasse 22 in Rheinfelden. \n
 \nWir sammeln an diesem Tag für ein Projekt in Jashpur -  Indien.\nSeit
  Jahrhunderten leben die Gemeinschaften der Adivasi auf dem indischen
  Subkontinent im und vom Wald\, sie betreiben traditionell Wanderfeldbau\,
  jagen und sammeln Waldprodukte. \nIn der Diözese Jashpur im Bundesstaat
  Chhattisgarh machen die Adivasi rund 80% der Bevölkerung aus. Das Gebiet
  ist hügelig\, dicht bewaldet und reich an Wasserläufen\, doch schwer
  zugänglich. Hier besitzen die Adivasi eigenes Land und leben vom Anbau
  von Getreide und Hülsenfrüchten\, sowie vom Sammeln von Waldprodukten.
  Meist reichen ihre Nahrungsmittel nicht für das ganze Jahr. Deshalb
  müssen sich viele Familien als billige Arbeitskräfte verdingen oder
  Kredite zu hohen Zinsen aufnehmen. \nDie Diözese Jashpur unterstützt
  die Adivasi in 200 Dörfern dabei\, sich gemeinschaftlich zu organisieren
  und mittels Getreidesparkassen Vorräte anzulegen. Dadurch können sie
  sich in Zeiten des Mangels und bei Notfällen mit Krediten gegenseitig
  helfen\, ohne in die Fänge der Geldverleiher zu geraten. Ein weiteres
  wichtiges Ziel ist die Stärkung des Selbstbewusstseins der Bevölkerung
  und gemeinsame Aktivitäten\, unter anderem\, damit sie ihr
  traditionelles Land auf dem Rechtsweg selbst verteidigen können.\n\nWenn
  sie eine feine Suppe geniessen möchten und damit dieses Projekt
  unterstützen\, haben sie hier die Möglichkeit dazu:\n\nSa. 2. März\,
  im Reformierten Kirchgemeindehaus\, Roberstenstrasse 22\,\nab 11.30 Uhr: 
 \nEs gibt wieder drei feine Suppen\, im Anschluss Kaffee und Kuchen. \n
 \nWer gerne für den Suppentag Kuchen spenden möchte - Wir würden uns
  sehr darüber freuen – melden sie sich bitte in unserem Sekretariat 061
  831 52 42 oder bei Iris Reif 061 833 96 70.\n\n\nKontakt: Iris Reif\n\n
 \nWeitere Infos: https://www.ref-rheinfelden.ch/veranstaltung/15232
SUMMARY:Ökumenischer Suppentag in Rheinfelden
PRIORITY:5
X-MICROSOFT-CDO-IMPORTANCE:1
CLASS:PUBLIC
END:VEVENT
END:VCALENDAR
