BEGIN:VCALENDAR
PRODID:-//kirchenweb.ch gmbh//veranstaltungsausgabe v2.0//DE
VERSION:2.0
METHOD:PUBLISH
BEGIN:VEVENT
DTSTART:20240924T073000Z
DTEND:20240924T090000Z
LOCATION:Ref. Kirchgemeindehaus Kaiseraugst\, Kraftwerkstrasse 8\, 4303
  Kaiseraugst
TRANSP:OPAQUE
SEQUENCE:0
UID:15226-veranstaltung@ref-rheinfelden.ch
DTSTAMP:20240201T133000Z
DESCRIPTION:Kontakt: Ref. Frauenverein\, Barbara Schätti\nPfr. Andreas
  Fischer\n\nWeitere Infos:
  https://www.ref-rheinfelden.ch/veranstaltung/15226
SUMMARY:Morgenkaffee\, ref. Frauenverein
PRIORITY:5
X-MICROSOFT-CDO-IMPORTANCE:1
CLASS:PUBLIC
END:VEVENT
END:VCALENDAR
