BEGIN:VCALENDAR
PRODID:-//kirchenweb.ch gmbh//veranstaltungsausgabe v2.0//DE
VERSION:2.0
METHOD:PUBLISH
BEGIN:VEVENT
DTSTART:20240227T083000Z
DTEND:20240227T100000Z
LOCATION:Ref. Kirchgemeindehaus Kaiseraugst\, Kraftwerkstrasse 8\, 4303
  Kaiseraugst
TRANSP:OPAQUE
SEQUENCE:0
UID:15219-veranstaltung@ref-rheinfelden.ch
DTSTAMP:20240201T133354Z
DESCRIPTION:Kontakt: Ref. Frauenverein\, Barbara Schätti\nPfr. Andreas
  Fischer\n\nWeitere Infos:
  https://www.ref-rheinfelden.ch/veranstaltung/15219
SUMMARY:Morgenkaffee\, ref. Frauenverein
PRIORITY:5
X-MICROSOFT-CDO-IMPORTANCE:1
CLASS:PUBLIC
END:VEVENT
END:VCALENDAR
