BEGIN:VCALENDAR
PRODID:-//kirchenweb.ch gmbh//veranstaltungsausgabe v2.0//DE
VERSION:2.0
METHOD:PUBLISH
BEGIN:VEVENT
DTSTART:20240129T190000Z
DTEND:20240129T203000Z
LOCATION:Kirchgemeindehaus Robersten\, Roberstenstrasse 22\, 4310
  Rheinfelden
TRANSP:OPAQUE
SEQUENCE:0
UID:15151-veranstaltung@ref-rheinfelden.ch
DTSTAMP:20240125T094808Z
DESCRIPTION:Zum „Feier-Abend“ sind alle Interessierten ganz herzlich
  eingeladen : \nWir singen ein paar Lieder\, lesen und diskutieren einen
  biblischen Text und lassen danach den Abend bei einer Tasse Tee
  ausklingen.\n \nWir treffen uns im Wintergarten des Kirchgemeindehauses
  Rheinfelden (Roberstenstr. 22)\, von 20-21.30h.\n\nWer Lust und Zeit hat
  darf einfach kommen\, spontan und ohne Anmeldung.\nIm Namen des
  Vorbereitungs- Teams\n\nChristine Ruszkowski-Hauri\n\nKontakt: Pfrn.
  Christine Ruszkowski\n\nWeitere Infos:
  https://www.ref-rheinfelden.ch/veranstaltung/15151
SUMMARY:Feierabend im Kirchgemeindehaus Rheinfelden
PRIORITY:5
X-MICROSOFT-CDO-IMPORTANCE:1
CLASS:PUBLIC
END:VEVENT
END:VCALENDAR
