BEGIN:VCALENDAR
PRODID:-//kirchenweb.ch gmbh//veranstaltungsausgabe v2.0//DE
VERSION:2.0
METHOD:PUBLISH
BEGIN:VEVENT
DTSTART:20231214T180000Z
DTEND:20231214T210000Z
LOCATION:Kirchgemeindehaus Kaiseraugst\, Mühlegasse 13\, 4303 Kaiseraugst
TRANSP:OPAQUE
SEQUENCE:0
UID:14907-veranstaltung@ref-rheinfelden.ch
DTSTAMP:20231202T143019Z
DESCRIPTION:Kontakt: Barbara Schätti\nJutta Wurm\n\nWeitere Infos:
  https://www.ref-rheinfelden.ch/veranstaltung/14907
SUMMARY:Adventsfeier des ref. Frauenvereins
PRIORITY:5
X-MICROSOFT-CDO-IMPORTANCE:1
CLASS:PUBLIC
END:VEVENT
END:VCALENDAR
