BEGIN:VCALENDAR
PRODID:-//kirchenweb.ch gmbh//veranstaltungsausgabe v2.0//DE
VERSION:2.0
METHOD:PUBLISH
BEGIN:VEVENT
DTSTART:20231212T163000Z
DTEND:20231212T173000Z
LOCATION:Kirchgemeindehaus Kaiseraugst\, Mühlegasse 13\, 4303 Kaiseraugst
TRANSP:OPAQUE
SEQUENCE:0
UID:14905-veranstaltung@ref-rheinfelden.ch
DTSTAMP:20231203T121826Z
DESCRIPTION:Das Adventsfenster beim Kirchgemeindehaus in Kaiseraugst\nwird
  um 17.30 eröffnet. \nEs kann bestaunt und die Geschichte dazu gehört
  werden.\nAlle sind zur Eröffnung und zum Apéro ganz herzlich
  eingeladen.\n\nKontakt: Ursula Zuppinger\n\nWeitere Infos:
  https://www.ref-rheinfelden.ch/veranstaltung/14905
SUMMARY:Adventsfenster
PRIORITY:5
X-MICROSOFT-CDO-IMPORTANCE:1
CLASS:PUBLIC
END:VEVENT
END:VCALENDAR
