BEGIN:VCALENDAR
PRODID:-//kirchenweb.ch gmbh//veranstaltungsausgabe v2.0//DE
VERSION:2.0
METHOD:PUBLISH
BEGIN:VEVENT
DTSTART:20240920T171500Z
DTEND:20240920T180000Z
LOCATION:Kirchgemeindehaus Kaiseraugst\, Mühlegasse 13\, 4303 Kaiseraugst
TRANSP:OPAQUE
SEQUENCE:0
UID:14899-veranstaltung@ref-rheinfelden.ch
DTSTAMP:20240916T205222Z
DESCRIPTION:»Der Glaube\, das Vertrauen auf Gott\, ist etwas ganz
  Einfaches... Er ist wie ein Schritt\, den wir tausendfach von neuem tun\,
  ein Leben lang\, bis zum letzten Atemzug.« \n(Frère Roger Schutz\,
  Pfarrer\, Gründer und langjähriger Prior von Taizé)\n\nIn diesem Geist
  der Einfachheit feiern wir monatlich einmal Gottesdienst – mit Gebet\,
  Stille und den typischen\, mehrfach\, mehrsprachig und mehrstimmig
  gesungenen Taizé-Liedern.\n\nHerzliche Einladung!\n\nAndreas Fischer und
  Jutta Wurm\n\nZum Inhalt:\n\n«Wer hat mich berührt?»\n\nDie Frage
  stellt Jesus\, als eine unter Blutungen leidende Frau seinen Mantel
  berührt (Markusevangelium 5\, 25-34). Die Jünger sind irritiert: Kein
  Wunder\, dass dich jemand berührt im Gedränge\, sagen sie. Doch Jesus
  meint etwas anderes: Er spürt\, dass eine Kraft von ihm ausgegangen ist.
  Er fragt nach einer bewussten\, absichtlichen Berührung.\n\nDie Frage
  hat\, über die Geschichte hinaus\, generelle Bedeutung: Wer/was berührt
  mich\, berührt mich wirklich in all den Informationen\, Eindrücken\,
  Überzeugungen\, Ideen\, Meinungen\, die mich dauernd bedrängen?\n\nWie
  immer gilt: Der kleine Impuls ist nicht das Wesentliche\, jedenfalls
  nicht das einzig Wesentliche der Taizéfeier. Wirklich berührend\, finde
  ich\, sind die Gesänge\, die Stille\, der Segen.\n\n\n\nKontakt: Pfr.
  Andreas Fischer\n\nWeitere Infos:
  https://www.ref-rheinfelden.ch/veranstaltung/14899
SUMMARY:Taizé-Feier
PRIORITY:5
X-MICROSOFT-CDO-IMPORTANCE:1
CLASS:PUBLIC
END:VEVENT
END:VCALENDAR
