BEGIN:VCALENDAR
PRODID:-//kirchenweb.ch gmbh//veranstaltungsausgabe v2.0//DE
VERSION:2.0
METHOD:PUBLISH
BEGIN:VEVENT
DTSTART:20231220T050000Z
DTEND:20231220T060000Z
LOCATION:reformierte Kirche Arisdorf\, Kirchrain 5\, 4422 Arisdorf
TRANSP:OPAQUE
SEQUENCE:0
UID:14892-veranstaltung@ref-rheinfelden.ch
DTSTAMP:20251116T214558Z
DESCRIPTION:Erstmals findet dieses Jahr eine dritte Rorate-Feier statt -
  in der reformierten Kirche Arisdorf! Die  (die
  https://www.ref-rheinfelden.ch/veranstaltung/10275 findet am 6. Dezember
  im reformierten Kirchgemeindehaus\, die
  https://www.ref-rheinfelden.ch/veranstaltung/10276 in der
  römisch-katholischen Kirche St. Gallus und Othmar statt ). \n\nHerzliche
  Einladung zu den traditionsreichen\, stimmungsvollen Früh-Gottesdiensten
  - und dem anschliessenden Zmoorge!\n\nPfr. Andreas Fischer\, Diakon
  Stephan Kochinky und Sozialdiakon Raphael Bachmann\n\n---\n\nJohannes der
  Täufer\, der Anachoret\, der Fremdling\, der Rufer in der Wüste\, passt
  in den Advent. Er selber fordert\, die Strassen gerade zu machen für den
  kommenden Gott. Und seine Jünger fragen Jesus\, ob er der Heiland sei\,
  der Retter der Welt\, auf den alle warten. Diese Frage – und die
  Antwort Jesu – begleitet uns durch die diesjährigen Rorate-Feiern\,
  die ökumenischen Frühgottesdienste:\n\nBist du der\, der KOMMEN soll\,
 \noder sollen wir auf einen anderen WARTEN?\nJesus antwortete: GEHT und
  berichtet\,\nwas ihr hört und seht. (Mt 11\,3f)\n\nDie erste findet am
  Mittwoch\, 6. Dezember um 6 Uhr (6/12/6) im reformierten
  Kirchgemeindehaus statt\, die zweite dann am 13. Dezember in der
  römisch-katholischen Kirche St. Gallus und Othmar. Und dieses Jahr
  findet erstmals noch eine dritte Rorate-Feier statt: am 20. Dezember in
  der reformierten Kirche Arisdorf.\n\nKontakt: Pfr. Andreas Fischer\n
 \nWeitere Infos: https://www.ref-rheinfelden.ch/veranstaltung/14892
SUMMARY:Rorate-Feier: "Geht und berichtet\, was ihr hört und seht!"
PRIORITY:5
X-MICROSOFT-CDO-IMPORTANCE:1
CLASS:PUBLIC
END:VEVENT
END:VCALENDAR
