BEGIN:VCALENDAR
PRODID:-//kirchenweb.ch gmbh//veranstaltungsausgabe v2.0//DE
VERSION:2.0
METHOD:PUBLISH
BEGIN:VEVENT
DTSTART:20240921T171500Z
DTEND:20240921T181500Z
LOCATION:Kirchgemeindehaus Gässli\, Juchstrasse 27\, 4312 Magden
TRANSP:OPAQUE
SEQUENCE:0
UID:14861-veranstaltung@ref-rheinfelden.ch
DTSTAMP:20240919T151231Z
DESCRIPTION:Mit Phileas Baun & Sonja Merz \n\nPhileas Baun und Sonja Merz
  präsentieren die klassische Gitarre in ihrer Vielfältigkeit: Sie
  spielen unter anderem Stücke aus Klassik\, Eigenkompositionen und
  Arrangements südamerikanischer Lieder.\n\nPhileas Baun studierte
  klassische Gitarre\, alte/zeitgenössische Musik und Dirigieren an der
  Musikhochschule Trossingen\, Konservatorium Den Haag und der
  Musikakademie Basel/Schola Cantorum Basiliensis. Als Solist ist er in
  ganz Europa unterwegs und führte mehrfach Rodrigos «Concierto de
  Aranjuez» auf. \n \nSonja Merz studierte klassische Gitarre und
  Schulmusik an der Musikakademie Basel. Sie leitet das Ensemble
  «Andariegas»\, mit der sie klassische Gitarre mit Populärmusik
  verbindet. Als Komponistin nimmt sie immer wieder Aufträge entgegen\, so
  wie zuletzt die Eröffnungsshow des Unihockey-Superfinals 2024. \n\nDie
  Musik- und Kulturkommission lädt herzlich ein zu diesem Konzert im
  «Gässli». \n\nDer Eintritt ist frei. \n\n\nKontakt: Sekretariat\n
 \nWeitere Infos: https://www.ref-rheinfelden.ch/veranstaltung/14861
SUMMARY:Gitarrenkonzert: Spätsommerliche Nostalgie
PRIORITY:5
X-MICROSOFT-CDO-IMPORTANCE:1
CLASS:PUBLIC
END:VEVENT
END:VCALENDAR
