BEGIN:VCALENDAR
PRODID:-//kirchenweb.ch gmbh//veranstaltungsausgabe v2.0//DE
VERSION:2.0
METHOD:PUBLISH
BEGIN:VEVENT
DTSTART:20240920T150000Z
DTEND:20240920T153000Z
LOCATION:Kirchgemeindehaus Gässli\, Juchstrasse 27\, 4312 Magden
TRANSP:OPAQUE
SEQUENCE:0
UID:14667-veranstaltung@ref-rheinfelden.ch
DTSTAMP:20231207T165717Z
DESCRIPTION:Das Fiire mit de Chliine ist ein Gottesdienst der drei
  Landeskirchen für Kinder zwischen 0-7 Jahren. Rund um eine biblische
  Geschichte oder ein biblisches Thema wird gesungen\, gemalt\, gebastelt
  oder ein Bodenbild gestaltet. \n\nWir treffen uns viermal im Jahr\,
  jeweils freitags um 17 Uhr im Kirchgemeindehaus "Gässli"\, Juchstrasse
  27\, in Magden. Die Feier dauert etwa eine halbe Stunde. \n\nOb
  reformiert\, katholisch\, christkatholisch oder konfessionslos\, spielt
  keine Rolle: Jeder ist willkommen!\n\nKontakt: Pfrn. Stefanie Schmid\n
 \nWeitere Infos: https://www.ref-rheinfelden.ch/veranstaltung/14667
SUMMARY:Fiire mit de Chliine Magden
PRIORITY:5
X-MICROSOFT-CDO-IMPORTANCE:1
CLASS:PUBLIC
END:VEVENT
END:VCALENDAR
