BEGIN:VCALENDAR
PRODID:-//kirchenweb.ch gmbh//veranstaltungsausgabe v2.0//DE
VERSION:2.0
METHOD:PUBLISH
BEGIN:VEVENT
DTSTART:20240119T160000Z
DTEND:20240119T170000Z
LOCATION:Kirchgemeindehaus Kaiseraugst\, Mühlegasse 13\, 4303 Kaiseraugst
TRANSP:OPAQUE
SEQUENCE:0
UID:14650-veranstaltung@ref-rheinfelden.ch
DTSTAMP:20240104T190530Z
DESCRIPTION:Hörst Du gerne Geschichten? \nZur Gschichte-chischte sind
  alle Kinder vom 2. Kindergarten bis zur 4. Klasse eingeladen.\nIch freue
  mich\, wenn Du kommen kannst.\nKontakt: Ursula Zuppinger
 \nursula.zuppinger@ref-rheinfelden.ch\n\n\nKontakt: Ursula Zuppinger\n
 \nWeitere Infos: https://www.ref-rheinfelden.ch/veranstaltung/14650
SUMMARY:Gschichte-chischte
PRIORITY:5
X-MICROSOFT-CDO-IMPORTANCE:1
CLASS:PUBLIC
END:VEVENT
END:VCALENDAR
