BEGIN:VCALENDAR
PRODID:-//kirchenweb.ch gmbh//veranstaltungsausgabe v2.0//DE
VERSION:2.0
METHOD:PUBLISH
BEGIN:VEVENT
DTSTART:20241006T080000Z
DTEND:20241006T090000Z
LOCATION:Evang.-Ref. Kirche Rheinfelden\, Zürcherstrasse 1\, 4310
  Rheinfelden
TRANSP:OPAQUE
SEQUENCE:0
UID:14577-veranstaltung@ref-rheinfelden.ch
DTSTAMP:20240926T095958Z
DESCRIPTION:Die Predigt bei diesem Gottesdienst haltet Walter Mäder. Der
  pensionierte Pfarrer\, der in Sissach aufgewachsen ist\, und jetzt im
  Kanton Aargau daheim ist\, macht sich am 6. Oktober zu uns auf den Weg.
  Die knappen 50 km Entfernung betrachtet er nicht als Hindernis\, um bei
  uns Gottesdienst zu halten. Verwunderlich ist das nicht\, denn Walter
  Mäder ist sich Reisen gewohnt. Der Theologe ist auch ein
  leidenschaftlicher Skipper\, der zwei Mal mit einem kleinen Schiff um die
  Welt gesegelt ist. Selbst wenn er zu uns auf dem Landweg kommt\, etwas
  von der Faszination Ozean und von der Weite seiner geistigen Horizonte
  wird wohl auch in seiner Rheinfelder Predigt spürbar. Darauf dürfen wir
  uns freuen. Und ja\, wenn Sie sich gerade wegen seinem Namen Gedanken
  machen: Er ist der ältere Bruder von Ueli Mäder.\n\nKontakt: Pfr.
  Walter Mäder\n\nWeitere Infos:
  https://www.ref-rheinfelden.ch/veranstaltung/14577
SUMMARY:Gottesdienst
PRIORITY:5
X-MICROSOFT-CDO-IMPORTANCE:1
CLASS:PUBLIC
END:VEVENT
END:VCALENDAR
