BEGIN:VCALENDAR
PRODID:-//kirchenweb.ch gmbh//veranstaltungsausgabe v2.0//DE
VERSION:2.0
METHOD:PUBLISH
BEGIN:VEVENT
DTSTART:20240114T090000Z
DTEND:20240114T100000Z
LOCATION:Evang.-Ref. Kirche Rheinfelden\, Zürcherstrasse 1\, 4310
  Rheinfelden
TRANSP:OPAQUE
SEQUENCE:0
UID:14576-veranstaltung@ref-rheinfelden.ch
DTSTAMP:20240110T153534Z
DESCRIPTION:Die Mär von der Gleichheit aller Menschen. Oder ist das doch
  die Wahrheit? Wenn ja\, dann besitzt die Behauptung\, alle Menschen seien
  gleich\, ein umstürzlerisches Potenzial. Genauso wie Freiheit und
  Geschwisterlichkeit. Aber sind wir bereit\, diesem Ideal zu folgen? Was
  würde uns das abverlangen? In diesem Gottesdienst erwartet sie eine
  kleine aber schonungslose Annäherung an ein grosses Thema.\nÜbrigens\,
  die Slogans der französischen Revolution (unser Bild aus Avignon) haben
  starke biblische Wurzeln. In deren Auslegung und Wirkungsgeschichte gibt
  es aber frappante Unterschiede. \n\nKontakt: Pfr. Leszek Ruszkowski\n
 \nWeitere Infos: https://www.ref-rheinfelden.ch/veranstaltung/14576
SUMMARY:Die Mär von der Gleichheit aller Menschen. Gottesdienst
PRIORITY:5
X-MICROSOFT-CDO-IMPORTANCE:1
CLASS:PUBLIC
END:VEVENT
END:VCALENDAR
