BEGIN:VCALENDAR
PRODID:-//kirchenweb.ch gmbh//veranstaltungsausgabe v2.0//DE
VERSION:2.0
METHOD:PUBLISH
BEGIN:VEVENT
DTSTART:20240124T090000Z
DTEND:20240124T100000Z
LOCATION:WPZ Salmenpark\, Basler Str. 2\, 4310 Rheinfelden
TRANSP:OPAQUE
SEQUENCE:0
UID:14550-veranstaltung@ref-rheinfelden.ch
DTSTAMP:20231214T132354Z
DESCRIPTION:Kontakt: Andreas Fischer\nPfr. Andreas Fischer\n\nWeitere
  Infos: https://www.ref-rheinfelden.ch/veranstaltung/14550
SUMMARY:Altersheim-Gottesdienst
PRIORITY:5
X-MICROSOFT-CDO-IMPORTANCE:1
CLASS:PUBLIC
END:VEVENT
END:VCALENDAR
