BEGIN:VCALENDAR
PRODID:-//kirchenweb.ch gmbh//veranstaltungsausgabe v2.0//DE
VERSION:2.0
METHOD:PUBLISH
BEGIN:VEVENT
DTSTART:20241009T080000Z
DTEND:20241009T090000Z
LOCATION:APH Lindenstrasse\, Lindenstrasse 6\, 4310 Rheinfelden
TRANSP:OPAQUE
SEQUENCE:0
UID:14547-veranstaltung@ref-rheinfelden.ch
DTSTAMP:20241007T212343Z
DESCRIPTION:Kontakt: Pfr. Andreas Fischer\n\nWeitere Infos:
  https://www.ref-rheinfelden.ch/veranstaltung/14547
SUMMARY:Altersheim-Gottesdienst
PRIORITY:5
X-MICROSOFT-CDO-IMPORTANCE:1
CLASS:PUBLIC
END:VEVENT
END:VCALENDAR
