BEGIN:VCALENDAR
PRODID:-//kirchenweb.ch gmbh//veranstaltungsausgabe v2.0//DE
VERSION:2.0
METHOD:PUBLISH
BEGIN:VEVENT
DTSTART:20240111T183000Z
DTEND:20240111T210000Z
LOCATION:Kirchgemeindehaus Gässli\, Juchstrasse 27\, 4312 Magden
TRANSP:OPAQUE
SEQUENCE:0
UID:14519-veranstaltung@ref-rheinfelden.ch
DTSTAMP:20231102T141102Z
DESCRIPTION:Kontakt: Sekretariat\n\n\nWeitere Infos:
  https://www.ref-rheinfelden.ch/veranstaltung/14519
SUMMARY:FrauenKino
PRIORITY:5
X-MICROSOFT-CDO-IMPORTANCE:1
CLASS:PUBLIC
END:VEVENT
END:VCALENDAR
