BEGIN:VCALENDAR
PRODID:-//kirchenweb.ch gmbh//veranstaltungsausgabe v2.0//DE
VERSION:2.0
METHOD:PUBLISH
BEGIN:VEVENT
DTSTART:20240225T181500Z
DTEND:20240225T191500Z
LOCATION:Kirchgemeindehaus Kaiseraugst\, Mühlegasse 13\, 4303 Kaiseraugst
TRANSP:OPAQUE
SEQUENCE:0
UID:14471-veranstaltung@ref-rheinfelden.ch
DTSTAMP:20240314T094158Z
DESCRIPTION:Es sind Ur-Fragen der Menschheit und jedes einzelnen Menschen.
  Die Kaiseraugsterin Susanne Straumann hat sich diesen Fragen intensiv
  gestellt und ihre Suche nach Antworten in einem Buch verarbeitet. Im
  Vorwort schreibt sie: „Niemand weiss\, wie es sich anfühlt\, wenn man
  seine eigenen Wurzeln nicht kennt\, ausser\, man hat es selber erlebt.“
 \n\nIn einem Gespräch im Rahmen des Gottesdienstes erzählt sie von ihrer
  - persönlichen und spirituellen -
  https://www.ref-rheinfelden.ch/bericht/1462. Anschliessende
  „Ateliers“ geben Raum\, der eigenen Identität nachzuspüren und sich
  selber die Fragen zu stellen: „Wer bin ich? Wo komme ich her?“\n\n
 \nKontakt: Pfr. Andreas Fischer\n\nWeitere Infos:
  https://www.ref-rheinfelden.ch/veranstaltung/14471
SUMMARY:„Wer bin ich? Wo komme ich her?“ – Atelier-Gottesdienst zur
  Frage nach der eigenen Identität
PRIORITY:5
X-MICROSOFT-CDO-IMPORTANCE:1
CLASS:PUBLIC
END:VEVENT
END:VCALENDAR
