BEGIN:VCALENDAR
PRODID:-//kirchenweb.ch gmbh//veranstaltungsausgabe v2.0//DE
VERSION:2.0
METHOD:PUBLISH
BEGIN:VEVENT
DTSTART:20240218T090000Z
DTEND:20240218T100000Z
LOCATION:Evang.-Ref. Kirche Rheinfelden\, Zürcherstrasse 1\, 4310
  Rheinfelden
TRANSP:OPAQUE
SEQUENCE:0
UID:14470-veranstaltung@ref-rheinfelden.ch
DTSTAMP:20240314T093942Z
DESCRIPTION:Am Anfang der Markus-Passion steht die Geschichte von jener
  Frau\, die Jesus salbte (Mk 14\, 1-11). Sie habe\, sagt Jesus\, damit ein
  „gutes Werk“ getan.\n\nDie Zürcher Bibel schreibt statt „gutes
  Werk“ „schöne Tat“:\n\n„Sie hat eine schöne Tat an mir
  vollbracht.“\n\nDamit nimmt sie einen Gedanken auf\, den der grosse
  Berner Dichter-Pfarrer Kurt Marti (1921-2017) in einer Predigt über die
  Salbungsgeschichte entfaltet: „Man soll\, wir wissen es\, Gutes
  tun“\, schreibt er lapidar und fährt dann fort:\n\n„Man kann aber
  auch Schönes tun.\nGute Taten geben dem Leben Sinn.\nSchöne Taten geben
  dem Leben Glanz.“\n\nSchöne Taten zeichnen sich dadurch aus\, dass sie
  absichtslos und unverplant geschehen. Und kein Mass kennen\, entsprechend
  jener „grossen Lieb\, o Lieb ohn alle Masse“\, deren Sterben\, Tod
  und Auferstehen wir bedenken\, jetzt in der Kar- und Osterzeit.\n\n
 \nKontakt: Pfr. Andreas Fischer\n\nWeitere Infos:
  https://www.ref-rheinfelden.ch/veranstaltung/14470
SUMMARY:„Eine schöne Tat“: Gottesdienst der Gesamtgemeinde am Anfang
  der Passionszeit
PRIORITY:5
X-MICROSOFT-CDO-IMPORTANCE:1
CLASS:PUBLIC
END:VEVENT
END:VCALENDAR
