BEGIN:VCALENDAR
PRODID:-//kirchenweb.ch gmbh//veranstaltungsausgabe v2.0//DE
VERSION:2.0
METHOD:PUBLISH
BEGIN:VEVENT
DTSTART:20240204T100000Z
DTEND:20240204T110000Z
LOCATION:Kirchgemeindehaus Kaiseraugst\, Mühlegasse 13\, 4303 Kaiseraugst
TRANSP:OPAQUE
SEQUENCE:0
UID:14469-veranstaltung@ref-rheinfelden.ch
DTSTAMP:20240128T145358Z
DESCRIPTION:Am Sonntag\, 4. Februar um 11 Uhr findet im reformierten
  Kirchgemeindehaus Kaiseraugst schon zum 21. Mal der Chaiseraugschter
  Fasnachtsgottesdienst statt. Auch diesmal wird die lokale Gugge
  „Grossschtadtchnulleri“ ihre diesjährigen Kostüme präsentieren und
  ihre neu einstudierten Stücke uraufführen. Dass der Lärm
  ohrenbetäubend und das Gaudi gross sein wird\, ist bekannt. Alles
  andere\, insbesondere das Thema\, bleibt bis dahin gut gehütetes
  Geheimnis.\n\nEine Bombenstimmung herrschte damals\, als man anfangs des
  Jahrtausends an der Faschingfeier in Badisch-Rheinfelden teilnahm\, im
  eigentlichen Sinn: Man flüchtete vor einer Bombendrohung in die
  protestantische Kirche\, die der Pastor freundlicherweise geöffnet
  hatte. Dann ging’s los. Die ersten Fasnächtler spielten auf\, weitere
  kamen hinzu\, zuletzt tanzten die Leute auf den Kirchbänken herum. Bald
  darauf\, auf Initiative meiner Vorgängerin\, Pfarrerin Esther Borer\,
  fand der erste Chaiseraugster Fasnachtsgottesdienst statt.\n\nDie
  Vorbereitungen der Chnulleri klingen\, als wär das Roche-Management am
  Werk. Sie beginnen Ende Mai des vorhergehenden Jahrs. KoKo
  (Kostüm-Kommission) und MuKo (Musik-Kommission) bringen Ideen ein. Mit
  den Schneiderinnen\, die zu einem Freundschaftspreis arbeiten\, wird
  geschaut\, was bezüglich der Kostüme machbar ist. Über das Thema wird
  demokratisch abgestimmt. Beides\, Kostüme und Thema\, bleibt bis zum
  Fasnachtsgottesdienst geheim. Hier\, in den heiligen Hallen des
  reformierten Kirchgemeindehauses\, wird beides präsentiert. Darum sind
  bei diesem Anlass alle nervös. Es herrscht Premieregroove. Insbesondere
  beim neuen Major\, Kimon Sorg. Und auch beim Pfarrer und dessen Frau.
  Cool ist einzig Theobald\, em Pfaff sin Aff. Er wird ex cathedra\, von
  der Kanzel herab vorwitzig-altkluge Reden vortragen:\n\n„Heut müsst
  ihr nicht auf Durchzug schalten! / Der Pfaff wird seine Schnuure halten.
  / ICH werde in der Kirche walten. / Drum\, Leute\, kommt in grosser Zahl!
  / Mich zu verpassen wär fatal.“\n\nIm Namen von Theobald und allen
  anderen Beteiligten lädt herzlich ein:\n\nAndreas Fischer\, Pfarrer von
  und zu Chaiseraugscht.\n\n\nKontakt: Pfr. Andreas Fischer\n\nWeitere
  Infos: https://www.ref-rheinfelden.ch/veranstaltung/14469
SUMMARY:Fasnachtsgottesdienst mit der Chaiseraugschter Gugge
  Grossschtadtchnulleri
PRIORITY:5
X-MICROSOFT-CDO-IMPORTANCE:1
CLASS:PUBLIC
END:VEVENT
END:VCALENDAR
