BEGIN:VCALENDAR
PRODID:-//kirchenweb.ch gmbh//veranstaltungsausgabe v2.0//DE
VERSION:2.0
METHOD:PUBLISH
BEGIN:VEVENT
DTSTART:20240121T090000Z
DTEND:20240121T100000Z
LOCATION:Christkatholische Kirche St. Gallus\, \, 4303 Kaiseraugst
TRANSP:OPAQUE
SEQUENCE:0
UID:14468-veranstaltung@ref-rheinfelden.ch
DTSTAMP:20240114T221046Z
DESCRIPTION:Jeweils im Januar findet die Gebetswoche für die Einheit der
  Christen statt. Sie hat eine alte Tradition\, die Ursprünge gehen in die
  Anfänge des 20. Jhrs. zurück. Auch die Kaiseraugster Tradition\,
  anlässlich der Gebetswoche einen ökumenischen Gottesdienst zu begehen\,
  ist alt. Früher fand er jeweils in der ökumenischen Kirche Liebrüti
  statt; seit diese wegen des Umbaus geschlossen ist\, feiern wir ihn in
  der christkatholischen Kirche.\n\nDas Leitwort der ökumenischen
  Gebetswoche lautet „…dass sie alle eins seien“. Ein Ad hoc-Chor
  wird dazu passend einen Song singen\, der mit sagenhaften zehn (10!)
  Stimmen zum Resumée kommt: „We are One“.\n\nHerzliche Einladung zum
  „Einheits-Gottesdienst“\, auch im Namen meiner Pfarrkollegen Peter
  Feenstra und Stephan Kochinky! \n\nKontakt: Pfr. Andreas Fischer\n
 \nWeitere Infos: https://www.ref-rheinfelden.ch/veranstaltung/14468
SUMMARY:Ökumenischer Gottesdienst
PRIORITY:5
X-MICROSOFT-CDO-IMPORTANCE:1
CLASS:PUBLIC
END:VEVENT
END:VCALENDAR
