BEGIN:VCALENDAR
PRODID:-//kirchenweb.ch gmbh//veranstaltungsausgabe v2.0//DE
VERSION:2.0
METHOD:PUBLISH
BEGIN:VEVENT
DTSTART:20240216T180000Z
DTEND:20240216T200000Z
LOCATION:Evang.-Ref. Kirche Rheinfelden\, Zürcherstrasse 1\, 4310
  Rheinfelden
TRANSP:OPAQUE
SEQUENCE:0
UID:14453-veranstaltung@ref-rheinfelden.ch
DTSTAMP:20240210T160509Z
DESCRIPTION:Friedensgebet vor dem 2. Jahrestag der Invasion. \n\nKurz vor
  dem zweiten Jahrestag der verheerenden Invasion auf die Ukraine laden die
  christkatholische\, die römisch-katholische und die reformierte Kirche
  gemeinsam zu einem besinnlichen Abend ein. Orthodoxe Gesänge werden im
  Zentrum stehen. Die Sängerinnen und Sänger aus der Ukraine betonen
  aber\, dass sie ihren Gesang nicht als Konzert\, sondern als Gebet
  verstehen. Das Publikum wird eine musikalische Reise durch das geistliche
  Erbe der Ostkirche erleben. Das ODA A cappella-Ensemble trägt
  liturgische Gesänge aus den Werken byzantinischer und slawischer Meister
  vor\, die über die Jahrhunderte in der Ostkirche bewahrt worden sind.
  Zwischen den Liedern werden meditative Texte und Gebete auf Deutsch und
  Ukrainisch vorgetragen.\n\nDie Mitglieder des Ensembles sind in der Regel
  Absolventen des orthodoxen Priesterseminars\, der Geistlichen Akademie
  und verschiedener Musikakademien in der Ukraine und sie singen als
  Solisten in verschiedenen orthodoxen Chören. Sie haben bereits nationale
  und internationale Auftritte erfolgreich absolviert\, darunter in
  Deutschland\, Dänemark\, Belgien\, Frankreich und der Schweiz. Erst die
  kriegsbedingten Ausreiseeinschränkungen für Männer führten dazu\,
  dass in diesem Ensemble auch Frauen auftreten. \nEintritt frei / Kollekte
 \n\n\nKontakt: Pfr. Leszek Ruszkowski\n\nWeitere Infos:
  https://www.ref-rheinfelden.ch/veranstaltung/14453
SUMMARY:Gebet für die Ukraine mit orthodoxen Gesängen
PRIORITY:5
X-MICROSOFT-CDO-IMPORTANCE:1
CLASS:PUBLIC
END:VEVENT
END:VCALENDAR
