BEGIN:VCALENDAR
PRODID:-//kirchenweb.ch gmbh//veranstaltungsausgabe v2.0//DE
VERSION:2.0
METHOD:PUBLISH
BEGIN:VEVENT
DTSTART:20240121T090000Z
DTEND:20240121T100000Z
LOCATION:Evang.-Ref. Kirche Rheinfelden\, Zürcherstrasse 1\, 4310
  Rheinfelden
TRANSP:OPAQUE
SEQUENCE:0
UID:14307-veranstaltung@ref-rheinfelden.ch
DTSTAMP:20240115T123301Z
DESCRIPTION:Eine Frage an der Menschen zerbrechen. Und wenn man Gott mit
  dem schier unendlichen Leiden in der grossen Welt oder in der eigenen
  kleinen Welt  in Verbindung bringt\, dann zerbricht auch der Glaube. Gibt
  es daraus einen Ausweg. Herzliche Einladung zu einem nachdenklichen
  Gottesdienst.\n\nKontakt: Pfr. Leszek Ruszkowski\n\nWeitere Infos:
  https://www.ref-rheinfelden.ch/veranstaltung/14307
SUMMARY:Gottesdienst: "Warum gerade ich?" Die schmerzlichste aller Fragen
PRIORITY:5
X-MICROSOFT-CDO-IMPORTANCE:1
CLASS:PUBLIC
END:VEVENT
END:VCALENDAR
