BEGIN:VCALENDAR
PRODID:-//kirchenweb.ch gmbh//veranstaltungsausgabe v2.0//DE
VERSION:2.0
METHOD:PUBLISH
BEGIN:VEVENT
DTSTART:20240225T090000Z
DTEND:20240225T100000Z
LOCATION:Evang.-Ref. Kirche Rheinfelden\, Zürcherstrasse 1\, 4310
  Rheinfelden
TRANSP:OPAQUE
SEQUENCE:0
UID:14295-veranstaltung@ref-rheinfelden.ch
DTSTAMP:20240225T064525Z
DESCRIPTION:"Verzicht" ist ein Reizwort und ein Tabu. Bei der
  Lösungssuche für die Probleme unserer Zeit kommt man immer wieder
  trotzdem darauf. Nimmt man es in den Mund\, so sinken die Chancen auf
  Gehör und Gefolgschaft. In der Kirche schlummert das Thema in einer
  ritualisierten Form und wird in die Schublade mit dem Namen "Fasten"
  versorgt. Aber reicht das\, um den wahren Problemen zu begegnen? Wenn Sie
  auf diesen Gottesdienst nicht verzichten\, so hören Sie mehr dazu.\n
 \nKontakt: Pfr. Leszek Ruszkowski\n\nWeitere Infos:
  https://www.ref-rheinfelden.ch/veranstaltung/14295
SUMMARY:Verzicht als Reizwort: Gottesdienst in der Fastenzeit
PRIORITY:5
X-MICROSOFT-CDO-IMPORTANCE:1
CLASS:PUBLIC
END:VEVENT
END:VCALENDAR
