BEGIN:VCALENDAR
PRODID:-//kirchenweb.ch gmbh//veranstaltungsausgabe v2.0//DE
VERSION:2.0
METHOD:PUBLISH
BEGIN:VEVENT
DTSTART:20240929T080000Z
DTEND:20240929T090000Z
LOCATION:Evang.-Ref. Kirche Rheinfelden\, Zürcherstrasse 1\, 4310
  Rheinfelden
TRANSP:OPAQUE
SEQUENCE:0
UID:14291-veranstaltung@ref-rheinfelden.ch
DTSTAMP:20240926T082931Z
DESCRIPTION:Dieser Sonntag gehört noch in die Schöpfungszeit\, in der in
  den Kirchen für die Bewahrung der Schöpfung gebetet wird.Der
  Kirchenchor Plus unter der Leitung von Karin Leentjens (in Vertretung
  für Armin Böck)\, wird diesen Gottesdienst mit Schöpfungs- und
  Segensliedern gesanglich umrahmen. Auch das Lied von Rolf Haas\, dem
  langjährigen Kantor und Organist der Kirchgemeinde\, «die Erde ist des
  Herrn» wird gesungen werden. \nDie alten Texte aus der hebräischen
  Bibel zur Schöpfung weisen uns nebst dem grossen Schöpferlob darauf
  hin\, dass uns Grenzen zur Nutzung der Natur auferlegt sind. Denn ohne
  Tiere und Pflanzen können wir nicht leben. Weinstock und Feigenbaum
  stehen für die Hoffnung auf ein friedliches Leben. \nHerzliche
  Einladung! \n\nEsther Borer-Schaub \n\n\n\n\n\n\nKontakt: Pfrn. Esther
  Borer\n\nWeitere Infos:
  https://www.ref-rheinfelden.ch/veranstaltung/14291
SUMMARY:Gottesdienst: "Unter Weinstock und Feigenbaum"
PRIORITY:5
X-MICROSOFT-CDO-IMPORTANCE:1
CLASS:PUBLIC
END:VEVENT
END:VCALENDAR
