BEGIN:VCALENDAR
PRODID:-//kirchenweb.ch gmbh//veranstaltungsausgabe v2.0//DE
VERSION:2.0
METHOD:PUBLISH
BEGIN:VEVENT
DTSTART:20240204T090000Z
DTEND:20240204T100000Z
LOCATION:Evang.-Ref. Kirche Rheinfelden\, Zürcherstrasse 1\, 4310
  Rheinfelden
TRANSP:OPAQUE
SEQUENCE:0
UID:14284-veranstaltung@ref-rheinfelden.ch
DTSTAMP:20240314T093728Z
DESCRIPTION:Anfangs Februar feiern wir bereits den nächsten Gottesdienst
  Plus\, zum Thema "Die Kraft der Vergebung". Ein Leben ohne Verletzungen
  gibt es nicht. Wir alle wissen wohl von Wunden zu berichten\, die uns im
  Laufe des Lebens zugefügt wurden. Und so bietet der kommende
  Gottesdienst Plus die Gelegenheit\, über alte Verletzungen\, vor allem
  aber über die transformative Macht der Vergebung nachzudenken.\nWir
  freuen uns\, eine ganz besondere Gastrednerin begrüssen zu dürfen\,
  Peruth Nzeyimana. Sie ist Ruanderin und lebt heute in der Schweiz. \n1994
  hat sie während des Genozids in Ruanda fast ihre gesamte Familie
  verloren. Sie wird die tiefgreifenden Herausforderungen aufzeigen\, vor
  denen sie nach dem Genozid stand. Dass sie trotz der Abgründe\, die sie
  durchleben musste\, den Ruf Gottes zur Vergebung gehört und umgesetzt
  hat grenzt an ein Wunder. In der Vergebung hat sie eine Quelle der
  Stärke gefunden\, die tiefe Wunden zu heilen liess und ihr die Kraft
  gab\, neue Weg zu beschreiten. Ihre Geschichte ist eine Geschichte der
  Hoffnung\, nicht nur für Ruanda. \n\nWir laden alle Generationen
  herzlich ein! Die Chileband wird spielen\, das Dekoteam wird das Thema
  kreativ umsetzen und das Chiletheater wird uns mit einer biblischen
  Inszenierung an das Thema heranführen.\nParallel zum Gottesdienst gibt
  es wieder ein Kinderprogramm und einen Kinderhütedienst\, und nach dem
  Gottesdienst sind alle zu einem einfachen Mittagessen direkt in der
  Kirche eingeladen. \n\nWir freuen uns\, wenn Sie mit dabei sind!\n
 \nCHRISTINE RUSZKOWSKI-HAURI MIT GOTTESDIENST-PLUS-TEAM\n\n\nKontakt:
  Pfrn. Christine Ruszkowski\n\nWeitere Infos:
  https://www.ref-rheinfelden.ch/veranstaltung/14284
SUMMARY:Gottesdienst Plus: Die Kraft der Vergebung
PRIORITY:5
X-MICROSOFT-CDO-IMPORTANCE:1
CLASS:PUBLIC
END:VEVENT
END:VCALENDAR
