BEGIN:VCALENDAR
PRODID:-//kirchenweb.ch gmbh//veranstaltungsausgabe v2.0//DE
VERSION:2.0
METHOD:PUBLISH
BEGIN:VEVENT
DTSTART:20240922T080000Z
DTEND:20240922T090000Z
LOCATION:Evang.-Ref. Kirche Rheinfelden\, Zürcherstrasse 1\, 4310
  Rheinfelden
TRANSP:OPAQUE
SEQUENCE:0
UID:14255-veranstaltung@ref-rheinfelden.ch
DTSTAMP:20240921T095810Z
DESCRIPTION:Wie ein guter Arzt\n\nAuch an diesem Sonntag\, wie schon am 8.
  September\, geht es um die Kraft des Glaubens. Wir hören von einem
  kranken Buben. Jede längere Krankengeschichte ist auch eine
  Verzweiflungsgeschichte. Sein Vater will verstehen\, er will es ändern
  aber er kann es nicht. Jesus beschäftigt sich ausführlich mit dem
  kranken Jungen. Er fragt zurück\, wie ein guter Arzt. Und sagt dann: Du
  darfst hoffen. Das Ende deiner Möglichkeiten ist nicht das Ende von
  Gottes Möglichkeiten. Den Vater beeindruckt das so sehr\, dass es ihn an
  seinen Unglauben erinnert\, an seine Hoffnungslosigkeit. Er bittet mit
  den Jahrtausendworten: Ich glaube\, hilf meinem Unglauben. Und Jesus
  hilft. KCH \n\n\nKontakt: Pfr. Klaus-Christian Hirte\n\nWeitere Infos:
  https://www.ref-rheinfelden.ch/veranstaltung/14255
SUMMARY:Gottesdienst
PRIORITY:5
X-MICROSOFT-CDO-IMPORTANCE:1
CLASS:PUBLIC
END:VEVENT
END:VCALENDAR
