BEGIN:VCALENDAR
PRODID:-//kirchenweb.ch gmbh//veranstaltungsausgabe v2.0//DE
VERSION:2.0
METHOD:PUBLISH
BEGIN:VEVENT
DTSTART:20240303T090000Z
DTEND:20240303T100000Z
LOCATION:Evang.-Ref. Kirche Rheinfelden\, Zürcherstrasse 1\, 4310
  Rheinfelden
TRANSP:OPAQUE
SEQUENCE:0
UID:14245-veranstaltung@ref-rheinfelden.ch
DTSTAMP:20240423T094636Z
DESCRIPTION:Eine irritierende Geschichte\n\nHerzliche Einladung zum
  Gottesdienst am 3. März in der reformierten Kirche in Rheinfelden. Wir
  hören an diesem Sonntag von einem etwas indiskreten Jesus\, der fremden
  Leuten in den Geldbeutel schaut. Und von einer armen Witwe\, die das
  wenige gibt\, was sie hat. Aber erzählt der Text aus dem
  Markusevangelium von einem für die Witwe harten Verzicht oder doch eher
  von ihrer Grosszügigkeit\, von ihrer Lust am Verschenken\, von ihrer
  selbstbestimmten und deshalb souveränen Verschwendung? Musikalisch
  gestaltet wird dieser Gottesdienst von Rani Orenstein an der Orgel. \n
 \nKontakt: Pfr. Klaus-Christian Hirte\n\nWeitere Infos:
  https://www.ref-rheinfelden.ch/veranstaltung/14245
SUMMARY:Das Scherflein der Witwe - Gottesdienst
PRIORITY:5
X-MICROSOFT-CDO-IMPORTANCE:1
CLASS:PUBLIC
END:VEVENT
END:VCALENDAR
