BEGIN:VCALENDAR
PRODID:-//kirchenweb.ch gmbh//veranstaltungsausgabe v2.0//DE
VERSION:2.0
METHOD:PUBLISH
BEGIN:VEVENT
DTSTART:20240211T090000Z
DTEND:20240211T100000Z
LOCATION:Evang.-Ref. Kirche Rheinfelden\, Zürcherstrasse 1\, 4310
  Rheinfelden
TRANSP:OPAQUE
SEQUENCE:0
UID:14244-veranstaltung@ref-rheinfelden.ch
DTSTAMP:20240110T110526Z
DESCRIPTION:Bertolt Brecht dichtete in der Dreigroschenoper: "Wir wären
  gerne gut anstatt so roh\, aber die Verhältnisse\, die sind nicht so."
  Das ist eigentlich eine zynische Feststellung\, denn wer\, wenn nicht
  wir\, kann die Verhältnisse ändern. \nAn diesem letzten Sonntag vor der
  Passionszeit geht es vordergründig um die richtige Einordnung des
  Fastens. Hauptsächlich aber um die Frage nach der Gegenwart Gottes in
  unserem Leben. Ist Fasten nur die Arbeit am eigenen Selbst und das Suchen
  in der eigenen Seele und in diesem Fall Sache individueller
  Lebensgestaltung? Doch dieses moderne Verständnis hat sich das
  Metaphysische\, den Gottesbezug abgespeckt\, wie er die biblischen
  Vorstellungen vom Fasten als religiöser Übung begründet. \nIm
  wundervollen Predigttext aus dem Jesajabuch geht es um Gottes Nähe und
  um Heilung. Und um das Fasten als eine von vielen Möglichkeiten in
  Ordnung zu bringen\, was in Schieflage geraten ist\, unser Verhältnis
  zum Mitmenschen. \nHerzliche Einladung zu diesem Gottesdienst\, den Nina
  Haugen wunderbar an der Orgel musikalisch begleitet. \n\nKontakt:
  klaus-christian.hirte@ref-rheinfelden.ch\n\nWeitere Infos:
  https://www.ref-rheinfelden.ch/veranstaltung/14244
SUMMARY:Unterwegs zu den Quellen des Selbst - Gottesdienst
PRIORITY:5
X-MICROSOFT-CDO-IMPORTANCE:1
CLASS:PUBLIC
END:VEVENT
END:VCALENDAR
