BEGIN:VCALENDAR
PRODID:-//kirchenweb.ch gmbh//veranstaltungsausgabe v2.0//DE
VERSION:2.0
METHOD:PUBLISH
BEGIN:VEVENT
DTSTART:20240128T090000Z
DTEND:20240128T100000Z
LOCATION:Evang.-Ref. Kirche Rheinfelden\, Zürcherstrasse 1\, 4310
  Rheinfelden
TRANSP:OPAQUE
SEQUENCE:0
UID:14243-veranstaltung@ref-rheinfelden.ch
DTSTAMP:20240115T143654Z
DESCRIPTION:In diesem Gottesdienst vorbereitet von den 4. und 5. Klassen
  und ihrer Reli-Lehrerin Susanne Ammann geht es um den biblischen Begriff
  der "Hoffnung". Das Wort "Hoffnung" stammt tatsächlich von Hopsen\,
  Hüpfen\, Springen. So wie Kinder hüpfen und springen\, weil sie
  aufgeregt sind und sich auf etwas freuen\, so ist die Hoffnung. Seid
  fröhlich als Menschen der Hoffnung - sagt Paulus deshalb. Ohne Hoffnung
  kann kein Mensch leben. Deshalb: Hoffnung wagen. \nMusikalisch gestaltet
  wird der Gottesdienst von Rani Orenstein an Klavier und Orgel. \n
 \nKontakt: Pfr. Klaus-Christian Hirte\n\nWeitere Infos:
  https://www.ref-rheinfelden.ch/veranstaltung/14243
SUMMARY:Hoffnung wagen - Familiengottesdienst
PRIORITY:5
X-MICROSOFT-CDO-IMPORTANCE:1
CLASS:PUBLIC
END:VEVENT
END:VCALENDAR
