BEGIN:VCALENDAR
PRODID:-//kirchenweb.ch gmbh//veranstaltungsausgabe v2.0//DE
VERSION:2.0
METHOD:PUBLISH
BEGIN:VEVENT
DTSTART:20240107T090000Z
DTEND:20240107T100000Z
LOCATION:Evang.-Ref. Kirche Rheinfelden\, Zürcherstrasse 1\, 4310
  Rheinfelden
TRANSP:OPAQUE
SEQUENCE:0
UID:14241-veranstaltung@ref-rheinfelden.ch
DTSTAMP:20240208T122752Z
DESCRIPTION:Das schon leicht in Gebrauch genommene Jahr hat wieder Fahrt
  aufgenommen. Alle unsere Vorhaben im neuen Jahr stehen unter Gottes
  Zusage: Das geknickte Rohr wird er nicht zerbrechen und den glimmenden
  Docht wird er nicht auslöschen. Im Namen Gottes verkündete es schon der
  Prophet Jesaja\, in seinem sogenannten Gottesknechtlied. Der Gottesknecht
  geht leise und ruhig vor: Er schreit nicht\, er schlägt nicht
  dazwischen\, er trampelt nicht über andere hinweg. Gottes Verheissung
  ist sanft und kraftvoll zugleich. Etwas\, das still zu erlauschen ist.
  Ein leiser Trosthauch für die Geknickten\, für die fast Erloschenen\,
  für alle\, die sich im zurückliegenden Jahr so ungehalten fühlten\,
  weil niemand zu ihnen hielt. Für die Müden\, für Gehetzte\,
  Entwurzelte\, heimatlos Suchende\, für Veränderungserschöpfte\, für
  uns alle. \n\nHerzliche Einladung zu diesem Gottesdienst. Musikalisch
  gestaltet wird er von Nina Haugen an der Orgel. Anschliessend sind alle
  eingeladen zu Kaffee und Zopf.\n\nKontakt: Pfr. Klaus-Christian Hirte\n
 \nWeitere Infos: https://www.ref-rheinfelden.ch/veranstaltung/14241
SUMMARY:Leise Töne in lauter Zeit - Gottesdienst
PRIORITY:5
X-MICROSOFT-CDO-IMPORTANCE:1
CLASS:PUBLIC
END:VEVENT
END:VCALENDAR
