BEGIN:VCALENDAR
PRODID:-//kirchenweb.ch gmbh//veranstaltungsausgabe v2.0//DE
VERSION:2.0
METHOD:PUBLISH
BEGIN:VEVENT
DTSTART:20240211T090000Z
DTEND:20240211T100000Z
LOCATION:Kirchgemeindehaus Gässli\, Juchstrasse 27\, 4312 Magden
TRANSP:OPAQUE
SEQUENCE:0
UID:14219-veranstaltung@ref-rheinfelden.ch
DTSTAMP:20240130T125307Z
DESCRIPTION:Fasnachtsgottesdienst - neu mit Mittagessen im Anschluss!\n
 \nIm Jahr 2019 hatte die rüstige Dame Ottilia ihren ersten Auftritt im
  Fasnachtsgottesdienst. Mit buntbedruckter Schürze und ergrauten Haaren
  übernahm sie kurzerhand am Sonntagmorgen den Lead im Gottesdienst. Wer
  sie noch nicht erlebt hat\, dem sei sie an dieser Stelle mit ihren
  eigenen Worten vorgestellt:\n \nMein Name ist Ottilia\nund ich werde
  genauso wie letztes Jahr\ndurch den Gottesdienst begleiten\nmit manch
  Anekdoten und Weisheiten.\n83 Jahre bin ich jung\,\nda verkauft mich
  keiner mehr für dumm.\nZu viel hab ich gesehen von der Welt.
 \nNächstenliebe - und Humor - ist das\, was zählt.\nApropos\, beim
  Stichwort Humor\,\nda macht mir keiner etwas vor.\nGanz bescheiden muss
  ich euch sagen\nreimen und lustig sein – das sind meine Gaben.
 \nAusserdem bin ich witzig\, amüsant\, scherzhaft\, spassig und heiter
 \ndie Liste ginge endlos weiter.\nSelbst Bescheidenheit ist meine Stärke
 \ngeh ich doch ganz selbstlos zu Werke\nund stecke Stunden ins Reimen und
  Bibelstudieren\,\nnur um euch zu illustrieren:\nselbst Gottes Wort kann
  humvorvoll sein\,\ndrum schenke ich euch heute reinen Wein ein…\n \nIm
  Februar wird Ottilia nun zum fünften Mal den Besuchern «reinen Wein»
  einschenken. Wobei sie die Bibelgeschichten mit ganz besonderen Anekdoten
  ausschmückt. Bei ihrem letztjährigen Auftritt wurde die Geschichte von
  der Arche Noah genauer unter die Lupe genommen. Ottilia zitierte geheime
  Quellen\, wonach bei der langen Fährüberfahrt aus einer spontanen Laune
  heraus eine Gugge gegründet wurde – man munkelt\, es sei ein
  Vorläufer der Magdener Sürmelgugge gewesen.\n \nVielleicht ein Grund\,
  warum die Sürmel seit vielen Jahren getreulich beim
  Fasnachtsgottesdienst mit dabei sind? Ottilia jedenfalls ist hoch erfreut
  über die musikalische Begleitung:\n \nBesonders die Sürmelgugge ist
  fabelhaft\,\nsie haben sich sicherlich Tolles ausgedacht\,\nschon letztes
  Jahr war es wunderbar\ndrum freu ich mich\, seid ihr wieder da!\n \nWobei
  dieses Jahr die Sürmelgugge nicht nur für musikalischen Genuss\,
  sondern unter der Ägide von Ueli auch für das leibliche Wohl sorgen
  wird. Im Anschluss an den Gottesdienst wird von 11.30 – 12.30 Uhr
  Hörnli und Ghackts serviert und wer mag kann ausserdem beim Kuchenbuffet
  zugreifen. Zur besseren Planung wird eine Anmeldung bis zum 8. Februar
  2024 erbeten an das ref. Pfarramt\, Stefanie Schmid\, t. 061 841 21 50.
  Für das Mittagessen ist ein freiwilliger Unkostenbeitrag willkommen.
  Falls jemand ausserdem gerne von zuhause abgeholt und wieder heimgebracht
  werden möchte\, der kann sich ebenfalls unter angegebener Nummer melden.
 \n\nKontakt: Pfrn. Stefanie Schmid\n\nWeitere Infos:
  https://www.ref-rheinfelden.ch/veranstaltung/14219
SUMMARY:Fasnacht-Gottesdienst mit Mittagessen
PRIORITY:5
X-MICROSOFT-CDO-IMPORTANCE:1
CLASS:PUBLIC
END:VEVENT
END:VCALENDAR
