BEGIN:VCALENDAR
PRODID:-//kirchenweb.ch gmbh//veranstaltungsausgabe v2.0//DE
VERSION:2.0
METHOD:PUBLISH
BEGIN:VEVENT
DTSTART:20240107T100000Z
DTEND:20240107T110000Z
LOCATION:rk Kirche Magden\, \,
TRANSP:OPAQUE
SEQUENCE:0
UID:14217-veranstaltung@ref-rheinfelden.ch
DTSTAMP:20231012T132144Z
DESCRIPTION:Kontakt: Pfrn. Stefanie Schmid\n\nWeitere Infos:
  https://www.ref-rheinfelden.ch/veranstaltung/14217
SUMMARY:Ök. Sternsinger-Gottesdienst
PRIORITY:5
X-MICROSOFT-CDO-IMPORTANCE:1
CLASS:PUBLIC
END:VEVENT
END:VCALENDAR
