BEGIN:VCALENDAR
PRODID:-//kirchenweb.ch gmbh//veranstaltungsausgabe v2.0//DE
VERSION:2.0
METHOD:PUBLISH
BEGIN:VEVENT
DTSTART:20240112T183000Z
DTEND:20240112T200000Z
LOCATION:Evang.-Ref. Kirche Rheinfelden\, Zürcherstrasse 1\, 4310
  Rheinfelden
TRANSP:OPAQUE
SEQUENCE:0
UID:14136-veranstaltung@ref-rheinfelden.ch
DTSTAMP:20240109T102141Z
DESCRIPTION:Kontakt: Sekretariat Rhf\n\nMonica Schweizer\n\nWeitere Infos:
  https://www.ref-rheinfelden.ch/veranstaltung/14136
SUMMARY:Konzert des Barockorchesters «Capriccio»
PRIORITY:5
X-MICROSOFT-CDO-IMPORTANCE:1
CLASS:PUBLIC
END:VEVENT
END:VCALENDAR
