BEGIN:VCALENDAR
PRODID:-//kirchenweb.ch gmbh//veranstaltungsausgabe v2.0//DE
VERSION:2.0
METHOD:PUBLISH
BEGIN:VEVENT
DTSTART:20240207T130000Z
DTEND:20240207T150000Z
LOCATION:Kirchgemeindehaus Gässli\, Juchstrasse 27\, 4312 Magden
TRANSP:OPAQUE
SEQUENCE:0
UID:14110-veranstaltung@ref-rheinfelden.ch
DTSTAMP:20230413T095315Z
DESCRIPTION:Während des Winterhalbjahrs wird jeweils an einem
  Mittwochnachmittag im Monat in Magden ein Film gezeigt für Kinder der
  1.-5. Klasse.\n\nDer Eintritt ist an und für sich kostenlos\, es wird
  eine kleine Gebühr von Fr. 2.- für das Zvieri erhoben.\n\nDer Anlass
  steht allen Kindern offen\, Konfession und Religion spielen keine Rolle.
 \n\nKontakt: Pfrn. Stefanie Schmid\n\nWeitere Infos:
  https://www.ref-rheinfelden.ch/veranstaltung/14110
SUMMARY:Kleines Kino Magden
PRIORITY:5
X-MICROSOFT-CDO-IMPORTANCE:1
CLASS:PUBLIC
END:VEVENT
END:VCALENDAR
