BEGIN:VCALENDAR
PRODID:-//kirchenweb.ch gmbh//veranstaltungsausgabe v2.0//DE
VERSION:2.0
METHOD:PUBLISH
BEGIN:VEVENT
DTSTART:20240310T090000Z
DTEND:20240310T100000Z
LOCATION:Evang.-Ref. Kirche Rheinfelden\, Zürcherstrasse 1\, 4310
  Rheinfelden
TRANSP:OPAQUE
SEQUENCE:0
UID:14106-veranstaltung@ref-rheinfelden.ch
DTSTAMP:20240423T095124Z
DESCRIPTION:Kontakt: Pfrn. Stefanie Schmid\n\nWeitere Infos:
  https://www.ref-rheinfelden.ch/veranstaltung/14106
SUMMARY:Konfirmation Magden
PRIORITY:5
X-MICROSOFT-CDO-IMPORTANCE:1
CLASS:PUBLIC
END:VEVENT
END:VCALENDAR
