BEGIN:VCALENDAR
PRODID:-//kirchenweb.ch gmbh//veranstaltungsausgabe v2.0//DE
VERSION:2.0
METHOD:PUBLISH
BEGIN:VEVENT
DTSTART:20231222T181500Z
DTEND:20231222T190000Z
LOCATION:Kirchgemeindehaus Kaiseraugst\, Mühlegasse 13\, 4303 Kaiseraugst
TRANSP:OPAQUE
SEQUENCE:0
UID:13093-veranstaltung@ref-rheinfelden.ch
DTSTAMP:20231222T140851Z
DESCRIPTION:Sie kommen in der biblischen Weihnachtsgeschichte nicht vor\,
  gehören aber zum Grundbestand einer Krippe. Und so liegen auch in der
  Krippe im Kirchgemeindehaus Kaiseraugst\, die dieses Jahr ihr
  20-jähriges Bestehen feiert\, gleich neben Maria und dem Jesuskind ein
  Ochse und ein Esel. Das hat eine tiefe Bedeutung\, der wir in dieser
  Taizé-Feier kurz vor Weihnachten nachspüren.\n\n---\n\n»Der Glaube\,
  das Vertrauen auf Gott\, ist etwas ganz Einfaches... Er ist wie ein
  Schritt\, den wir tausendfach von neuem tun\, ein Leben lang\, bis zum
  letzten Atemzug.« \n(Frère Roger Schutz\, Pfarrer\, Gründer und
  langjähriger Prior von Taizé)\n\nIn diesem Geist der Einfachheit feiern
  wir monatlich einmal Gottesdienst – mit Gebet\, Stille und den
  typischen\, mehrfach\, mehrsprachig und mehrstimmig gesungenen
  Taizé-Liedern.\n\nMit Pfr. Andreas Fischer und Jutta Wurm\n\n\nKontakt:
  Pfr. Andreas Fischer\n\nWeitere Infos:
  https://www.ref-rheinfelden.ch/veranstaltung/13093
SUMMARY:Taizé-Feier gemeinsam mit Ochs und Esel bei der Krippe
PRIORITY:5
X-MICROSOFT-CDO-IMPORTANCE:1
CLASS:PUBLIC
END:VEVENT
END:VCALENDAR
