BEGIN:VCALENDAR
PRODID:-//kirchenweb.ch gmbh//veranstaltungsausgabe v2.0//DE
VERSION:2.0
METHOD:PUBLISH
BEGIN:VEVENT
DTSTART:20231224T163000Z
DTEND:20231224T173000Z
LOCATION:Stiftkirche Olsberg\, Chloster\, 4305 Olsberg
TRANSP:OPAQUE
SEQUENCE:0
UID:12949-veranstaltung@ref-rheinfelden.ch
DTSTAMP:20231214T132116Z
DESCRIPTION:Kontakt: Pfrn. Stefanie Schmid\n\nWeitere Infos:
  https://www.ref-rheinfelden.ch/veranstaltung/12949
SUMMARY:Ök. Gottesdienst an Heiligabend
PRIORITY:5
X-MICROSOFT-CDO-IMPORTANCE:1
CLASS:PUBLIC
END:VEVENT
END:VCALENDAR
