BEGIN:VCALENDAR
PRODID:-//kirchenweb.ch gmbh//veranstaltungsausgabe v2.0//DE
VERSION:2.0
METHOD:PUBLISH
BEGIN:VEVENT
DTSTART:20231224T153000Z
DTEND:20231224T163000Z
LOCATION:Evang.-Ref. Kirche Rheinfelden\, Zürcherstrasse 1\, 4310
  Rheinfelden
TRANSP:OPAQUE
SEQUENCE:0
UID:12922-veranstaltung@ref-rheinfelden.ch
DTSTAMP:20241218T154528Z
DESCRIPTION:Herzliche Einladung zum Gottesdienst an Heiligabend\, um 16.30
  Uhr in der ref. Kirche Rheinfelden. Mit der biblischen
  Weihnachtsgeschichte\, mit Liedern und einer Weihnachtserzählung wollen
  wir uns einstimmen auf das Weihnachtsfest. \nBitte Laterne oder Kerze
  mitbringen\, um das Weihnachtslicht aus Bethlehem aus der Kirche mit nach
  Hause nehmen zu können.\n\n\nKontakt: Pfrn. Christine Ruszkowski\n
 \nWeitere Infos: https://www.ref-rheinfelden.ch/veranstaltung/12922
SUMMARY:LichterTragen an Heiligabend mit Licht von Bethlehem
PRIORITY:5
X-MICROSOFT-CDO-IMPORTANCE:1
CLASS:PUBLIC
END:VEVENT
END:VCALENDAR
