BEGIN:VCALENDAR
PRODID:-//kirchenweb.ch gmbh//veranstaltungsausgabe v2.0//DE
VERSION:2.0
METHOD:PUBLISH
BEGIN:VEVENT
DTSTART:20231225T090000Z
DTEND:20231225T100000Z
LOCATION:Evang.-Ref. Kirche Rheinfelden\, Zürcherstrasse 1\, 4310
  Rheinfelden
TRANSP:OPAQUE
SEQUENCE:0
UID:12900-veranstaltung@ref-rheinfelden.ch
DTSTAMP:20240111T104442Z
DESCRIPTION:Unbekannte Weihnachten \noder alles\, was man über
  Weihnachten nicht weiss\n\nDas Wissen über den christlichen Glauben
  schwindet. Was feiert man schon wieder an Pfingsten? Trefferquote bei
  einer Strassenumfrage: unter 10 Prozent. Anders mit Weihnachten. Über
  dieses Kirchen-Fest scheinen viele noch Bescheid zu wissen. Manchmal mehr
  als man wissen kann. In Tat und Wahrheit ist aber rund um die Geburt von
  Jesus von Nazareth vieles unbekannt. Sich das vor Augen zu führen\, ist
  nicht müssig. Es kann helfen zu entdecken\, was gesichert ist. Es kann
  helfen\, sich dem Wesentlichen zu nähern.\n\nMitwirkung des Gospelchors
 \n\n\nKontakt: Pfr. Leszek Ruszkowski\n\nWeitere Infos:
  https://www.ref-rheinfelden.ch/veranstaltung/12900
SUMMARY:Unbekannte Weihnachten: Weihnachtsgottesdienst mit Abendmahl und
  Gospelchor
PRIORITY:5
X-MICROSOFT-CDO-IMPORTANCE:1
CLASS:PUBLIC
END:VEVENT
END:VCALENDAR
